BEGIN:VCALENDAR
VERSION:2.0
PRODID:-//Chaddock and Fox Promotions - ECPv6.15.12.2//NONSGML v1.0//EN
CALSCALE:GREGORIAN
METHOD:PUBLISH
X-WR-CALNAME:Chaddock and Fox Promotions
X-ORIGINAL-URL:http://boat-jumbles.co.uk
X-WR-CALDESC:Events for Chaddock and Fox Promotions
REFRESH-INTERVAL;VALUE=DURATION:PT1H
X-Robots-Tag:noindex
X-PUBLISHED-TTL:PT1H
BEGIN:VTIMEZONE
TZID:UTC
BEGIN:STANDARD
TZOFFSETFROM:+0000
TZOFFSETTO:+0000
TZNAME:UTC
DTSTART:20190101T000000
END:STANDARD
END:VTIMEZONE
BEGIN:VEVENT
DTSTART;TZID=UTC:20260222T100000
DTEND;TZID=UTC:20260222T140000
DTSTAMP:20260423T135009
CREATED:20210908T115640Z
LAST-MODIFIED:20251217T141248Z
UID:2550-1771754400-1771768800@boat-jumbles.co.uk
SUMMARY:Gosport Boat Jumble - Sunday 22nd February 2026
DESCRIPTION:
URL:http://boat-jumbles.co.uk/event/gosport-boat-jumble/
LOCATION:Haslar Marina – Gosport\, Haslar Marina\, Gosport\, Hampshire\, PO12 1NU\, United Kingdom
END:VEVENT
BEGIN:VEVENT
DTSTART;TZID=UTC:20210516T100000
DTEND;TZID=UTC:20210516T140000
DTSTAMP:20260423T135009
CREATED:20201124T164632Z
LAST-MODIFIED:20210504T071042Z
UID:2219-1621159200-1621173600@boat-jumbles.co.uk
SUMMARY:Titchfield Spring Boat Jumble.
DESCRIPTION:
URL:http://boat-jumbles.co.uk/event/2219/
LOCATION:Hound Hill Farm – Titchfield\, Hounds Hill Farm\, Segensworth Road East\, Titchfield\, Hampshire\, PO15 5DY\, United Kingdom
END:VEVENT
BEGIN:VEVENT
DTSTART;VALUE=DATE:20201004
DTEND;VALUE=DATE:20201005
DTSTAMP:20260423T135009
CREATED:20200604T142923Z
LAST-MODIFIED:20201003T181951Z
UID:132-1601769600-1601855999@boat-jumbles.co.uk
SUMMARY:Solent  (Titchfield) Autumn
DESCRIPTION:
URL:http://boat-jumbles.co.uk/event/solent-autumn/
LOCATION:Hound Hill Farm – Titchfield\, Hounds Hill Farm\, Segensworth Road East\, Titchfield\, Hampshire\, PO15 5DY\, United Kingdom
END:VEVENT
BEGIN:VEVENT
DTSTART;TZID=UTC:20201003T100000
DTEND;TZID=UTC:20201003T150000
DTSTAMP:20260423T135009
CREATED:20201125T113300Z
LAST-MODIFIED:20210614T084511Z
UID:2256-1601719200-1601737200@boat-jumbles.co.uk
SUMMARY:Solent Boat Jumble
DESCRIPTION:
URL:http://boat-jumbles.co.uk/event/solent-boat-jumble-2/
LOCATION:Royal Victoria Country Park – Southampton\, Royal Victoria Country Park\, Southampton\, Hampshire\, SO31 5GA\, United Kingdom
END:VEVENT
BEGIN:VEVENT
DTSTART;VALUE=DATE:20200705
DTEND;VALUE=DATE:20200706
DTSTAMP:20260423T135009
CREATED:20200601T161812Z
LAST-MODIFIED:20200706T151650Z
UID:76-1593907200-1593993599@boat-jumbles.co.uk
SUMMARY:Titchfield Jumble
DESCRIPTION: \n \n \n 
URL:http://boat-jumbles.co.uk/event/titchfield-jumble/
LOCATION:Hound Hill Farm – Titchfield\, Hounds Hill Farm\, Segensworth Road East\, Titchfield\, Hampshire\, PO15 5DY\, United Kingdom
CATEGORIES:Cancelled
END:VEVENT
BEGIN:VEVENT
DTSTART;VALUE=DATE:20200701
DTEND;VALUE=DATE:20200702
DTSTAMP:20260423T135009
CREATED:20200610T100529Z
LAST-MODIFIED:20200706T151753Z
UID:2021-1593561600-1593647999@boat-jumbles.co.uk
SUMMARY:Solent Boat Jumble
DESCRIPTION:  \n\n\n\n\n\n\n\n\n\n\n\n\n\n\n \n\n\n\n \n\n\n\n \n\n\n\n 
URL:http://boat-jumbles.co.uk/event/solent-boat-jumble/
LOCATION:Fort Purbrook Portsmouth\, Fort Purbrook\, Portsdown Hill Road\, Cosham\, Hampshire\, PO6 1BJ\, United Kingdom
CATEGORIES:Cancelled
END:VEVENT
BEGIN:VEVENT
DTSTART;VALUE=DATE:20200510
DTEND;VALUE=DATE:20200511
DTSTAMP:20260423T135009
CREATED:20200604T141516Z
LAST-MODIFIED:20200625T101141Z
UID:122-1589068800-1589155199@boat-jumbles.co.uk
SUMMARY:Solent Spring
DESCRIPTION:
URL:http://boat-jumbles.co.uk/event/solent-spring/
LOCATION:Royal Victoria Country Park – Southampton\, Royal Victoria Country Park\, Southampton\, Hampshire\, SO31 5GA\, United Kingdom
END:VEVENT
BEGIN:VEVENT
DTSTART;VALUE=DATE:20200209
DTEND;VALUE=DATE:20200210
DTSTAMP:20260423T135009
CREATED:20200604T134841Z
LAST-MODIFIED:20200625T101149Z
UID:111-1581206400-1581292799@boat-jumbles.co.uk
SUMMARY:Gosport
DESCRIPTION:
URL:http://boat-jumbles.co.uk/event/gosport/
LOCATION:Haslar Marina – Gosport\, Haslar Marina\, Gosport\, Hampshire\, PO12 1NU\, United Kingdom
END:VEVENT
END:VCALENDAR