BEGIN:VCALENDAR
VERSION:2.0
PRODID:-//Chaddock and Fox Promotions - ECPv6.15.12.2//NONSGML v1.0//EN
CALSCALE:GREGORIAN
METHOD:PUBLISH
X-WR-CALNAME:Chaddock and Fox Promotions
X-ORIGINAL-URL:http://boat-jumbles.co.uk
X-WR-CALDESC:Events for Chaddock and Fox Promotions
REFRESH-INTERVAL;VALUE=DURATION:PT1H
X-Robots-Tag:noindex
X-PUBLISHED-TTL:PT1H
BEGIN:VTIMEZONE
TZID:UTC
BEGIN:STANDARD
TZOFFSETFROM:+0000
TZOFFSETTO:+0000
TZNAME:UTC
DTSTART:20250101T000000
END:STANDARD
END:VTIMEZONE
BEGIN:VEVENT
DTSTART;TZID=UTC:20260510T100000
DTEND;TZID=UTC:20260510T140000
DTSTAMP:20260419T124207
CREATED:20210908T101348Z
LAST-MODIFIED:20251217T111737Z
UID:2543-1778407200-1778421600@boat-jumbles.co.uk
SUMMARY:Solent Boat Jumble 10th May 2026
DESCRIPTION:
URL:http://boat-jumbles.co.uk/event/solent-boat-jumble-3/
LOCATION:Royal Victoria Country Park – Southampton\, Royal Victoria Country Park\, Southampton\, Hampshire\, SO31 5GA\, United Kingdom
END:VEVENT
BEGIN:VEVENT
DTSTART;TZID=UTC:20260705T100000
DTEND;TZID=UTC:20260705T140000
DTSTAMP:20260419T124207
CREATED:20201125T102139Z
LAST-MODIFIED:20251217T111815Z
UID:2236-1783245600-1783260000@boat-jumbles.co.uk
SUMMARY:Titchfield Boat Jumble Sunday 5th July 2026.
DESCRIPTION:
URL:http://boat-jumbles.co.uk/event/titchfield-summer-boat-jumble/
LOCATION:Hound Hill Farm – Titchfield\, Hounds Hill Farm\, Segensworth Road East\, Titchfield\, Hampshire\, PO15 5DY\, United Kingdom
END:VEVENT
BEGIN:VEVENT
DTSTART;TZID=UTC:20260906T100000
DTEND;TZID=UTC:20260906T140000
DTSTAMP:20260419T124207
CREATED:20201125T103634Z
LAST-MODIFIED:20251217T111759Z
UID:2246-1788688800-1788703200@boat-jumbles.co.uk
SUMMARY:Portsmouth Boat Jumble Sunday 6th September 2026.
DESCRIPTION:
URL:http://boat-jumbles.co.uk/event/portsmouth-boat-jumble/
LOCATION:Fort Purbrook Portsmouth\, Fort Purbrook\, Portsdown Hill Road\, Cosham\, Hampshire\, PO6 1BJ\, United Kingdom
END:VEVENT
END:VCALENDAR